Workbook

Sheet Procedures
A1: Entity Name:
A2: Cash Testing WP:
A3: Period:
C6: Procedures to be Performed: - Obtain all bank accounts listing. - Compare GL to bank balances. - Investigate variances. - Perform bank reconciliations. - Obtain confirmations. - Conclude on cash balances.
C17: Conclusion:

Sheet Summary
A1: =Procedures!B2 -> 0 | E1: =Procedures!B3 -> 0
A3: GL Account | B3: GL Balance | C3: Bank Balance | D3: Difference | E3: TM | F3: Bank Recon Required
D4: =B4-C4 -> 0 | F4: =IF(D4=0,"No","Yes") -> No
D5: =B5-C5 -> 0 | F5: =IF(D5=0,"No","Yes") -> No
D6: =B6-C6 -> 0 | F6: =IF(D6=0,"No","Yes") -> No
D7: =B7-C7 -> 0 | F7: =IF(D7=0,"No","Yes") -> No
D8: =B8-C8 -> 0 | F8: =IF(D8=0,"No","Yes") -> No
D9: =B9-C9 -> 0 | F9: =IF(D9=0,"No","Yes") -> No
D10: =B10-C10 -> 0 | F10: =IF(D10=0,"No","Yes") -> No
D11: =B11-C11 -> 0 | F11: =IF(D11=0,"No","Yes") -> No
D12: =B12-C12 -> 0 | F12: =IF(D12=0,"No","Yes") -> No
D13: =B13-C13 -> 0 | F13: =IF(D13=0,"No","Yes") -> No
D14: =B14-C14 -> 0 | F14: =IF(D14=0,"No","Yes") -> No
D15: =B15-C15 -> 0 | F15: =IF(D15=0,"No","Yes") -> No
... D25: =B25-C25 -> 0 | F25: =IF(D25=0,"No","Yes") -> No

Sheet Bank Recon
A1: =Procedures!B2 -> 0 | E1: =Procedures!B3 -> 0
A3: GL Account | B3: Bank Name | C3: Book Balance | D3: Stmt Balance | E3: Outstanding Cheques | F3: Deposits in Transit | G3: Other Recon Items | H3: Adjusted Balance | I3: Difference | J3: Remarks
H4: =D4-E4+F4+G4 -> 0 | I4: =C4-H4 -> 0
H5: =D5-E5+F5+G5 -> 0 | I5: =C5-H5 -> 0
H6: =D6-E6+F6+G6 -> 0 | I6: =C6-H6 -> 0
H7: =D7-E7+F7+G7 -> 0 | I7: =C7-H7 -> 0
H8: =D8-E8+F8+G8 -> 0 | I8: =C8-H8 -> 0
H9: =D9-E9+F9+G9 -> 0 | I9: =C9-H9 -> 0
H10: =D10-E10+F10+G10 -> 0 | I10: =C10-H10 -> 0
H11: =D11-E11+F11+G11 -> 0 | I11: =C11-H11 -> 0
H12: =D12-E12+F12+G12 -> 0 | I12: =C12-H12 -> 0
H13: =D13-E13+F13+G13 -> 0 | I13: =C13-H13 -> 0
H14: =D14-E14+F14+G14 -> 0 | I14: =C14-H14 -> 0
H15: =D15-E15+F15+G15 -> 0 | I15: =C15-H15 -> 0
... H25: =D25-E25+F25+G25 -> 0 | I25: =C25-H25 -> 0

Sheet Confirmation
A1: =Procedures!B2 -> 0
A3: Bank Name | B3: Account Number | C3: Books Balance | D3: Confirmed Balance | E3: Date Received | F3: Remarks
