Workbook

Sheet Procedures
A1: Entity Name:
A2: JET WP:
A3: Period:
E6: Procedures to be Performed: • Obtain JE dump. • Perform completeness reconciliation. • Apply risk filters. • Select samples. • Inspect support. • Conclude.
E17: Conclusion:

Sheet Population Review
B1: JOURNAL ENTRY POPULATION REVIEW
B3: JE No | C3: Date | D3: User ID | E3: Description | F3: Debit Account | G3: Credit Account | H3: Amount | I3: Posted Time | J3: Source | K3: Manual/Auto | L3: Reversal? | M3: Risk Flag | N3: Risk Reason
M4: =IF(OR(K4="Manual",L4="Yes",H4>=1000000),"Yes","No") -> No
M5: =IF(OR(K5="Manual",L5="Yes",H5>=1000000),"Yes","No") -> No
M6: =IF(OR(K6="Manual",L6="Yes",H6>=1000000),"Yes","No") -> No
M7: =IF(OR(K7="Manual",L7="Yes",H7>=1000000),"Yes","No") -> No
M8: =IF(OR(K8="Manual",L8="Yes",H8>=1000000),"Yes","No") -> No
M9: =IF(OR(K9="Manual",L9="Yes",H9>=1000000),"Yes","No") -> No
M10: =IF(OR(K10="Manual",L10="Yes",H10>=1000000),"Yes","No") -> No
M11: =IF(OR(K11="Manual",L11="Yes",H11>=1000000),"Yes","No") -> No
M12: =IF(OR(K12="Manual",L12="Yes",H12>=1000000),"Yes","No") -> No
M13: =IF(OR(K13="Manual",L13="Yes",H13>=1000000),"Yes","No") -> No
M14: =IF(OR(K14="Manual",L14="Yes",H14>=1000000),"Yes","No") -> No
M15: =IF(OR(K15="Manual",L15="Yes",H15>=1000000),"Yes","No") -> No
... M1003: =IF(OR(K1003="Manual",L1003="Yes",H1003>=1000000),"Yes","No") -> No

Sheet Completeness TB
B1: COMPLETENESS TB RECONCILIATION
B3: Total Opening TB | C3: =SUM(D10:D500) -> 0
B4: Total GL Debits | C4: =SUM(E10:E500) -> 0
B5: Total GL Credits | C5: =SUM(F10:F500) -> 0
B6: Total Calculated Ending | C6: =SUM(G10:G500) -> 0
B7: Total Ending TB | C7: =SUM(H10:H500) -> 0
B8: Net Difference | C8: =C6-C7 -> 0
B10: GL Code | C10: GL Description | D10: Opening TB | E10: GL Debits | F10: GL Credits | G10: Calculated Ending | H10: Ending TB | I10: Difference
G11: =D11+E11-F11 -> 0 | I11: =G11-H11 -> 0
G12: =D12+E12-F12 -> 0 | I12: =G12-H12 -> 0
G13: =D13+E13-F13 -> 0 | I13: =G13-H13 -> 0
G14: =D14+E14-F14 -> 0 | I14: =G14-H14 -> 0
G15: =D15+E15-F15 -> 0 | I15: =G15-H15 -> 0
G16: =D16+E16-F16 -> 0 | I16: =G16-H16 -> 0
G17: =D17+E17-F17 -> 0 | I17: =G17-H17 -> 0
G18: =D18+E18-F18 -> 0 | I18: =G18-H18 -> 0
G19: =D19+E19-F19 -> 0 | I19: =G19-H19 -> 0
G20: =D20+E20-F20 -> 0 | I20: =G20-H20 -> 0
G21: =D21+E21-F21 -> 0 | I21: =G21-H21 -> 0
G22: =D22+E22-F22 -> 0 | I22: =G22-H22 -> 0
... G500: =D500+E500-F500 -> 0 | I500: =G500-H500 -> 0

Sheet Sample Testing
B1: JE SAMPLE TESTING
B3: JE No | C3: Risk Reason | D3: Support | E3: Approved By | F3: Rationale | G3: Exception? | H3: Remarks

Sheet Analytics
B1: JET ADVANCED ANALYTICS
B3: Total Transactions | C3: =COUNTA('Population Review'!B4:B1004) -> 0 | D3: Round Number Entries | E3: =COUNTIF('Population Review'!H4:H1004,"*000") -> 0
B4: Total Value | C4: =SUM('Population Review'!H4:H1004) -> 0 | D4: Large Entries >1M | E4: =COUNTIF('Population Review'!H4:H1004,">=1000000") -> 0
B5: Highest Entry | C5: =MAX('Population Review'!H4:H1004) -> 0 | D5: Weekend/Late Night | E5: Input from date/time
B6: Average Entry | C6: =AVERAGE('Population Review'!H4:H1004) -> #DIV/0! | D6: Duplicate Amounts | E6: Review filter
B7: Manual Entries | C7: =COUNTIF('Population Review'!K4:K1004,"Manual") -> 0 | D7: Peak User | E7: Pivot by User ID
B8: Reversal Entries | C8: =COUNTIF('Population Review'!L4:L1004,"Yes") -> 0 | D8: Month-end Entries | E8: Filter by date
B9: Flagged Entries | C9: =COUNTIF('Population Review'!M4:M1004,"Yes") -> 0 | D9: Suspense Accounts | E9: Keyword filter
